BEGIN:VCALENDAR
VERSION:2.0
PRODID:-//St. Mary&#039;s Episcopal Church - ECPv6.15.20//NONSGML v1.0//EN
CALSCALE:GREGORIAN
METHOD:PUBLISH
X-ORIGINAL-URL:https://stmaryshighpoint.org
X-WR-CALDESC:Events for St. Mary&#039;s Episcopal Church
REFRESH-INTERVAL;VALUE=DURATION:PT1H
X-Robots-Tag:noindex
X-PUBLISHED-TTL:PT1H
BEGIN:VTIMEZONE
TZID:America/New_York
BEGIN:DAYLIGHT
TZOFFSETFROM:-0500
TZOFFSETTO:-0400
TZNAME:EDT
DTSTART:20250309T070000
END:DAYLIGHT
BEGIN:STANDARD
TZOFFSETFROM:-0400
TZOFFSETTO:-0500
TZNAME:EST
DTSTART:20251102T060000
END:STANDARD
BEGIN:DAYLIGHT
TZOFFSETFROM:-0500
TZOFFSETTO:-0400
TZNAME:EDT
DTSTART:20260308T070000
END:DAYLIGHT
BEGIN:STANDARD
TZOFFSETFROM:-0400
TZOFFSETTO:-0500
TZNAME:EST
DTSTART:20261101T060000
END:STANDARD
BEGIN:DAYLIGHT
TZOFFSETFROM:-0500
TZOFFSETTO:-0400
TZNAME:EDT
DTSTART:20270314T070000
END:DAYLIGHT
BEGIN:STANDARD
TZOFFSETFROM:-0400
TZOFFSETTO:-0500
TZNAME:EST
DTSTART:20271107T060000
END:STANDARD
END:VTIMEZONE
BEGIN:VEVENT
DTSTART;TZID=America/New_York:20260503T160000
DTEND;TZID=America/New_York:20260503T180000
DTSTAMP:20260421T084144
CREATED:20260415T133932Z
LAST-MODIFIED:20260415T133932Z
UID:10002227-1777824000-1777831200@stmaryshighpoint.org
SUMMARY:Journey to Adulthood (Rite 13 and J2A)
DESCRIPTION:The Journey to Adulthood (J2A) is a complete youth ministry program of spiritual formation for students in grades 6-12. It encourages relational ministry and uses Bible study\, prayer\, rites of passage\, outreach ministries and both serious and playful activities to underscore the two guiding principles of the program: 1) Manhood and womanhood are free gifts from God; and 2) Adulthood must be earned. It includes in-depth exploration of self\, spirituality\, sexuality and society. Our Rite-13 and J2A groups complete local mission projects and have occasional weekend retreats.
URL:https://stmaryshighpoint.org/event/journey-to-adulthood-rite-13-and-j2a/2026-05-03/
LOCATION:Community Life Center\, 205 W. Farriss Ave.\, High Point\, NC\, 27262
END:VEVENT
BEGIN:VEVENT
DTSTART;TZID=America/New_York:20260505T100000
DTEND;TZID=America/New_York:20260505T103000
DTSTAMP:20260421T084144
CREATED:20260414T162918Z
LAST-MODIFIED:20260414T162918Z
UID:10000276-1777975200-1777977000@stmaryshighpoint.org
SUMMARY:Centering Prayer
DESCRIPTION:Come explore the ancient practice of Centering Prayer each Tuesday at 10 am in the Miller Common Room. Centering Prayer also meets at 6:30 pm on Thursdays.
URL:https://stmaryshighpoint.org/event/centering-prayer-2/2026-05-05/
LOCATION:Miller Common Room\, 108 W. Farriss Ave.\, High Point\, NC\, 27262
END:VEVENT
BEGIN:VEVENT
DTSTART;TZID=America/New_York:20260505T113000
DTEND;TZID=America/New_York:20260505T130000
DTSTAMP:20260421T084144
CREATED:20260415T112154Z
LAST-MODIFIED:20260415T112154Z
UID:10002100-1777980600-1777986000@stmaryshighpoint.org
SUMMARY:Brotherhood of St. Andrew Lunch
DESCRIPTION:Our Brotherhood of St. Andrew chapter meets for lunch at Gianno’s at 11:30 am.
URL:https://stmaryshighpoint.org/event/brotherhood-of-st-andrew-lunch/2026-05-05/
LOCATION:Giannos of High Point\, 1124 Eastchester Drive\, High Point\, NC\, 27265
END:VEVENT
BEGIN:VEVENT
DTSTART;TZID=America/New_York:20260512T120000
DTEND;TZID=America/New_York:20260512T133000
DTSTAMP:20260421T084144
CREATED:20260413T144614Z
LAST-MODIFIED:20260415T141607Z
UID:10000002-1778587200-1778592600@stmaryshighpoint.org
SUMMARY:ECW General Meeting
DESCRIPTION:Episcopal Church Women General Meeting begins at noon in the Parish Hall. Our topic will be mental health. All are welcome. RSVP to Kathy Woltjen.
URL:https://stmaryshighpoint.org/event/ecw-general-meeting/
LOCATION:Parish Hall\, 108 W. Farriss Ave.\, High Point\, NC\, 27262
END:VEVENT
BEGIN:VEVENT
DTSTART;TZID=America/New_York:20260515T183000
DTEND;TZID=America/New_York:20260515T200000
DTSTAMP:20260421T084144
CREATED:20260413T183110Z
LAST-MODIFIED:20260415T113545Z
UID:10002160-1778869800-1778875200@stmaryshighpoint.org
SUMMARY:Friendship Table Community Meal
DESCRIPTION:Our Friendship Table ministry extends an open invitation for dinner on the third Friday of each month. The next meal will be held Friday\, April 17\, at 6:30 pm in our Community Life Center. \nCommunity Meals welcome everyone for a nutritious meal\, a chance to connect with neighbors\, and simply a warm and welcoming place to be. No RSVP or money is needed. \nCommunity Meals are held on the third Friday of each month. Learn more about this ministry here.
URL:https://stmaryshighpoint.org/event/friendship-table-community-meal/2026-05-15/
LOCATION:Community Life Center\, 205 W. Farriss Ave.\, High Point\, NC\, 27262
ORGANIZER;CN="Dorothy Kennedy":MAILTO:friendshiptable@stmaryshighpoint.org
END:VEVENT
BEGIN:VEVENT
DTSTART;TZID=America/New_York:20260622T083000
DTEND;TZID=America/New_York:20260626T120000
DTSTAMP:20260421T084144
CREATED:20260417T124809Z
LAST-MODIFIED:20260417T124809Z
UID:10003013-1782117000-1782475200@stmaryshighpoint.org
SUMMARY:Vacation Bible School (VBS)
DESCRIPTION:Our Vacation Bible School for summer 2026 will be all about finding peace\, wholeness\, and restoration through Christ. Through our peacemaking efforts\, we become closer to God are able to repair our world to a closer version of what God envisioned. For children ages 3 and up. Sign up here! We also have another week of VBS July 6-10 for children and youth. The week in July includes afternoons in service to our community.
URL:https://stmaryshighpoint.org/event/vacation-bible-school-vbs/
LOCATION:Community Life Center\, 205 W. Farriss Ave.\, High Point\, NC\, 27262
END:VEVENT
BEGIN:VEVENT
DTSTART;TZID=America/New_York:20260706T083000
DTEND;TZID=America/New_York:20260710T153000
DTSTAMP:20260421T084144
CREATED:20260417T125104Z
LAST-MODIFIED:20260417T125104Z
UID:10003014-1783326600-1783697400@stmaryshighpoint.org
SUMMARY:VBS with Afternoon Camp
DESCRIPTION:Our Vacation Bible School for summer 2026 will be all about finding peace\, wholeness\, and restoration through Christ. Through our peacemaking efforts\, we become closer to God are able to repair our world to a closer version of what God envisioned. For children and youth ages 3 and up. Sign up here! This week includes VBS from 8:30 am to noon followed by opportunities to serve others in our community each afternoon.
URL:https://stmaryshighpoint.org/event/vbs-with-afternoon-camp/
LOCATION:Community Life Center\, 205 W. Farriss Ave.\, High Point\, NC\, 27262
END:VEVENT
END:VCALENDAR