BEGIN:VCALENDAR
VERSION:2.0
PRODID:-//St. Mary&#039;s Episcopal Church - ECPv6.15.20//NONSGML v1.0//EN
CALSCALE:GREGORIAN
METHOD:PUBLISH
X-WR-CALNAME:St. Mary&#039;s Episcopal Church
X-ORIGINAL-URL:https://stmaryshighpoint.org
X-WR-CALDESC:Events for St. Mary&#039;s Episcopal Church
REFRESH-INTERVAL;VALUE=DURATION:PT1H
X-Robots-Tag:noindex
X-PUBLISHED-TTL:PT1H
BEGIN:VTIMEZONE
TZID:America/New_York
BEGIN:DAYLIGHT
TZOFFSETFROM:-0500
TZOFFSETTO:-0400
TZNAME:EDT
DTSTART:20300310T070000
END:DAYLIGHT
BEGIN:STANDARD
TZOFFSETFROM:-0400
TZOFFSETTO:-0500
TZNAME:EST
DTSTART:20301103T060000
END:STANDARD
BEGIN:DAYLIGHT
TZOFFSETFROM:-0500
TZOFFSETTO:-0400
TZNAME:EDT
DTSTART:20310309T070000
END:DAYLIGHT
BEGIN:STANDARD
TZOFFSETFROM:-0400
TZOFFSETTO:-0500
TZNAME:EST
DTSTART:20311102T060000
END:STANDARD
BEGIN:DAYLIGHT
TZOFFSETFROM:-0500
TZOFFSETTO:-0400
TZNAME:EDT
DTSTART:20320314T070000
END:DAYLIGHT
BEGIN:STANDARD
TZOFFSETFROM:-0400
TZOFFSETTO:-0500
TZNAME:EST
DTSTART:20321107T060000
END:STANDARD
END:VTIMEZONE
BEGIN:VEVENT
DTSTART;TZID=America/New_York:20310409T120000
DTEND;TZID=America/New_York:20310409T123000
DTSTAMP:20260423T050323
CREATED:20260414T183411Z
LAST-MODIFIED:20260414T190221Z
UID:10001838-1933502400-1933504200@stmaryshighpoint.org
SUMMARY:Noon Healing Eucharist
DESCRIPTION:Each Wednesday in the Chapel of Christ the King\, our noon Healing Eucharist celebrates a saint recognized by the Episcopal Church. Our weekly topics often\, but don’t always\, follow this calendar.
URL:https://stmaryshighpoint.org/event/noon-healing-eucharist/2031-04-09/
LOCATION:Chapel of Christ the King\, 205 W. Farriss Ave.\, High Point\, NC\, 27262
END:VEVENT
BEGIN:VEVENT
DTSTART;TZID=America/New_York:20310409T173000
DTEND;TZID=America/New_York:20310409T180000
DTSTAMP:20260423T050323
CREATED:20260414T184519Z
LAST-MODIFIED:20260414T184519Z
UID:10002099-1933522200-1933524000@stmaryshighpoint.org
SUMMARY:Evening Prayers
DESCRIPTION:We gather for evening prayers each Wednesday at 5:30 pm in the Chapel of Christ the King.
URL:https://stmaryshighpoint.org/event/evening-prayers/2031-04-09/
LOCATION:Chapel of Christ the King\, 205 W. Farriss Ave.\, High Point\, NC\, 27262
END:VEVENT
BEGIN:VEVENT
DTSTART;TZID=America/New_York:20310410T183000
DTEND;TZID=America/New_York:20310410T193000
DTSTAMP:20260423T050323
CREATED:20260414T162600Z
LAST-MODIFIED:20260414T162600Z
UID:10000273-1933612200-1933615800@stmaryshighpoint.org
SUMMARY:Centering Prayer
DESCRIPTION:Come practice the ancient spiritual practice of Centering Prayer each Thursday at 6:30 pm in the Miller Common Room. Centering Prayer also meets at 10 am on Tuesdays.
URL:https://stmaryshighpoint.org/event/centering-prayer/2031-04-10/
LOCATION:Miller Common Room\, 108 W. Farriss Ave.\, High Point\, NC\, 27262
END:VEVENT
BEGIN:VEVENT
DTSTART;TZID=America/New_York:20310412T090000
DTEND;TZID=America/New_York:20310412T100000
DTSTAMP:20260423T050323
CREATED:20260415T134720Z
LAST-MODIFIED:20260415T134720Z
UID:10002751-1933750800-1933754400@stmaryshighpoint.org
SUMMARY:PRAY-ers for Peace
DESCRIPTION:We gather at A Special Blend each Saturday morning to pray for peace. Join us for the first time and we’ll buy your coffee!
URL:https://stmaryshighpoint.org/event/pray-ers-for-peace/2031-04-12/
LOCATION:A Special Blend\, 504 N. Main St.\, High Point\, NC\, 27262
END:VEVENT
BEGIN:VEVENT
DTSTART;TZID=America/New_York:20310413T080000
DTEND;TZID=America/New_York:20310413T090000
DTSTAMP:20260423T050323
CREATED:20260414T182612Z
LAST-MODIFIED:20260414T182612Z
UID:10001577-1933833600-1933837200@stmaryshighpoint.org
SUMMARY:Rite II Prayer Book Eucharist
DESCRIPTION:Our Chapel of Christ the King hosts a Rite II Prayer Book Eucharist each Sunday morning. The chapel is located inside the Community Life Center. We always welcome visitors.
URL:https://stmaryshighpoint.org/event/rite-ii-prayer-book-eucharist/2031-04-13/
LOCATION:Chapel of Christ the King\, 205 W. Farriss Ave.\, High Point\, NC\, 27262
END:VEVENT
BEGIN:VEVENT
DTSTART;TZID=America/New_York:20310413T090000
DTEND;TZID=America/New_York:20310413T100000
DTSTAMP:20260423T050323
CREATED:20260414T182254Z
LAST-MODIFIED:20260414T182254Z
UID:10001316-1933837200-1933840800@stmaryshighpoint.org
SUMMARY:Lord's Living Room Eucharist
DESCRIPTION:Our Lord’s Living Room Eucharist offers a more casual worship service. The service begins at 9 am each Sunday in the Great Hall of the Community Life Center. Visitors are always welcome. Children who attend this service usually play together on the large rug in front of the altar during the service.
URL:https://stmaryshighpoint.org/event/lords-living-room-eucharist/2031-04-13/
LOCATION:Community Life Center\, 205 W. Farriss Ave.\, High Point\, NC\, 27262
END:VEVENT
BEGIN:VEVENT
DTSTART;TZID=America/New_York:20310413T110000
DTEND;TZID=America/New_York:20310413T120000
DTSTAMP:20260423T050323
CREATED:20260414T181721Z
LAST-MODIFIED:20260414T184823Z
UID:10000794-1933844400-1933848000@stmaryshighpoint.org
SUMMARY:Choral Eucharist
DESCRIPTION:We gather each Sunday at 11 am in the Nave for our Choral Eucharist. Visitors are always welcome! \nWhere is the church located? Enter the Nave at 108 W. Farriss Ave.\, near the corner of Farriss and North Main Street\, north of downtown High Point. \nWhere do I park? We have a parking lot off Hillcrest Drive just north of the church as well as outside our Community Life Center\, at the corner of Hillcrest and Farriss. Streetside parking is available along West Farriss Avenue and Hillcrest Drive.
URL:https://stmaryshighpoint.org/event/choral-eucharist/2031-04-13/
LOCATION:Nave\, 108 W. Farriss Ave.\, High Point\, NC\, 27262
END:VEVENT
BEGIN:VEVENT
DTSTART;TZID=America/New_York:20310413T110000
DTEND;TZID=America/New_York:20310413T120000
DTSTAMP:20260423T050323
CREATED:20260415T205956Z
LAST-MODIFIED:20260415T205956Z
UID:10003012-1933844400-1933848000@stmaryshighpoint.org
SUMMARY:Sunday live stream
DESCRIPTION:Join our Choral Eucharist live stream each Sunday on our YouTube channel.
URL:https://stmaryshighpoint.org/event/sunday-live-stream/2031-04-13/
LOCATION:NC
END:VEVENT
BEGIN:VEVENT
DTSTART;TZID=America/New_York:20310413T111500
DTEND;TZID=America/New_York:20310413T114500
DTSTAMP:20260423T050323
CREATED:20260415T134226Z
LAST-MODIFIED:20260415T134226Z
UID:10002490-1933845300-1933847100@stmaryshighpoint.org
SUMMARY:Children's Chapel
DESCRIPTION:During the 11 am Choral Eucharist in the Nave\, children ages 3 and older move to the children’s chapel for age-appropriate learning and fun together. Children rejoin parents and guardians in the Nave before the end of the Eucharist.
URL:https://stmaryshighpoint.org/event/childrens-chapel/2031-04-13/
LOCATION:Children’s wing\, 108 W. Farriss Ave.\, High Point\, NC\, 27262
END:VEVENT
BEGIN:VEVENT
DTSTART;TZID=America/New_York:20310413T120000
DTEND;TZID=America/New_York:20310413T123000
DTSTAMP:20260423T050323
CREATED:20260414T181828Z
LAST-MODIFIED:20260414T181828Z
UID:10001055-1933848000-1933849800@stmaryshighpoint.org
SUMMARY:Coffee and Conversation
DESCRIPTION:Stay after our 11 am Choral Eucharist each Sunday for coffee and conversation in the Parish Hall.
URL:https://stmaryshighpoint.org/event/coffee-and-conversation/2031-04-13/
LOCATION:Parish Hall\, 108 W. Farriss Ave.\, High Point\, NC\, 27262
END:VEVENT
END:VCALENDAR